BEGIN:VCALENDAR
VERSION:2.0
PRODID:icalendar-ruby
CALSCALE:GREGORIAN
METHOD:PUBLISH
BEGIN:VEVENT
DTSTAMP:20260419T174114Z
UID:event-1964@stampinup.net
DTSTART;TZID=America/Chicago:20190919T190000
DTEND;TZID=America/Chicago:20190919T213000
CREATED:20190911T132245
DESCRIPTION:Anyone can attend.  We do 3 projects + a special technique for
  a minimum order of $35 or a class fee of $25.  Newcomers get their first
  Stamp Club free.  All Stamp Clubs within the same month do the same proj
 ects.\n\n*Usually on 3rd Thursdays ~ Come Create with us!*\n\nEvent link: 
 https://stampinup.net/crm/events/1964
LAST-MODIFIED:20260416T132539
LOCATION:My Home Studio\, 10609 Wild Oak Dr\, Frisco\, TX 75035
ORGANIZER;CN=Barbara Greenlee:mailto:Barbara@GreenMoonStampStudio.com
SUMMARY: Thursday Stamp Club
URL;VALUE=URI:https://stampinup.net/crm/events/1964
END:VEVENT
END:VCALENDAR
