BEGIN:VCALENDAR
VERSION:2.0
PRODID:icalendar-ruby
CALSCALE:GREGORIAN
METHOD:PUBLISH
BEGIN:VEVENT
DTSTAMP:20260421T201340Z
UID:event-1960@stampinup.net
DTSTART;TZID=America/Chicago:20210119T100000
DTEND;TZID=America/Chicago:20210119T120000
CREATED:20190911T132206
DESCRIPTION:Anyone can attend.  We do 3 projects &amp\; a special techniqu
 e for a minimum order of $35 or a class fee of $25.  Newcomers get their 
 first Stamp Club free.  All Stamp Clubs within the same month do the same
  projects.  Bring (or start) your Friends.Fun.Creativity Punch card to ea
 rn participation punches toward a free pack of Designer Series Paper.\n\n*
 Normally on 3rd Tuesdays ~ Come Create with us!*\n\nEvent link: https://st
 ampinup.net/crm/events/1960
LAST-MODIFIED:20260215T101709
LOCATION:My Home Studio\, 10609 Wild Oak Dr\, Frisco\, TX 75035
ORGANIZER;CN=Barbara Greenlee:mailto:Barbara@GreenMoonStampStudio.com
SUMMARY:3rd Tuesday Stamp Club
URL;VALUE=URI:https://stampinup.net/crm/events/1960
END:VEVENT
END:VCALENDAR
