BEGIN:VCALENDAR
VERSION:2.0
PRODID:icalendar-ruby
CALSCALE:GREGORIAN
METHOD:PUBLISH
BEGIN:VEVENT
DTSTAMP:20260423T044539Z
UID:event-19269@stampinup.net
DTSTART;TZID=America/Chicago:20200104T100000
DTEND;TZID=America/Chicago:20200104T130000
CREATED:20191017T195237
DESCRIPTION:Pick up your new Occasions Catalog and Sale-a-Bration Brochure\
 , see my displays\, try out my Product Playground\, and enjoy Make &amp\; 
 Takes.  \n\nCome &amp\; Go Style\n\nEvent link: https://stampinup.net/crm
 /events/19269
LAST-MODIFIED:20191017T195249
LOCATION:Sweet Stamper Headquarters\, 13246 Trentwood\, 78231
ORGANIZER;CN=Candy Rattray:mailto:crattray@sbcglobal.net
SUMMARY:New Catalog Launch
URL;VALUE=URI:https://stampinup.net/crm/events/19269
END:VEVENT
END:VCALENDAR
