BEGIN:VCALENDAR
VERSION:2.0
PRODID:icalendar-ruby
CALSCALE:GREGORIAN
METHOD:PUBLISH
BEGIN:VEVENT
DTSTAMP:20260423T063748Z
UID:event-19251@stampinup.net
DTSTART;TZID=America/Chicago:20191210T110000
DTEND;TZID=America/Chicago:20191210T123000
CREATED:20191017T184115
DESCRIPTION:Make 3 beautiful\, coordinating pages!  When complete\, these 
 pages are ready to pop in your photos.  Theme:  Winter\nClass includes:\
 n\nAll prepared supplies for 3 coordinating 12 x 12 pages\nEmbellishments\
 , punched pieces\, die cuts\, ribbons\, and more!\nSpace and time to get s
 ome pages DONE!\n\nBring your photos if you wish.\nFREE with a minimum ord
 er or $20\n\nRSVP by Saturday before\n\n\nEvent link: https://stampinup.ne
 t/crm/events/19251
LAST-MODIFIED:20191205T105001
LOCATION:Sweet Stamper Headquarters\, 13246 Trentwood
ORGANIZER;CN=Candy Rattray:mailto:crattray@sbcglobal.net
SUMMARY:Scrapbook Class
URL;VALUE=URI:https://stampinup.net/crm/events/19251
END:VEVENT
END:VCALENDAR
