BEGIN:VCALENDAR
VERSION:2.0
PRODID:icalendar-ruby
CALSCALE:GREGORIAN
METHOD:PUBLISH
BEGIN:VEVENT
DTSTAMP:20260426T034102Z
UID:event-191602@stampinup.net
DTSTART;TZID=America/New_York:20231103T090000
DTEND;TZID=America/New_York:20231103T120000
CREATED:20230507T150400
DESCRIPTION:Join ladies in Indy for a morning of coffee &amp\; crafting! 
  \n\nBring your current creative project to work on. Or make the cards 
 for the month for $15\, payable on the day of the event (or free with $40
  Stampin' Up! order during the event). \nRSVP: https://Nov2023Coffeean
 dCrafting.eventbrite.com\n\nEvent link: https://stampinup.net/crm/events/1
 91602
LAST-MODIFIED:20230507T150417
LOCATION:Hand Stamped by Cheryl's Craft Room\, 7739 Prairie View Lane Indy
ORGANIZER;CN=Cheryl Piotrowski:mailto:handstampedbycheryl@gmail.com
SUMMARY:Coffee & Crafting
URL;VALUE=URI:https://stampinup.net/crm/events/191602
END:VEVENT
END:VCALENDAR
