BEGIN:VCALENDAR
VERSION:2.0
PRODID:icalendar-ruby
CALSCALE:GREGORIAN
METHOD:PUBLISH
BEGIN:VEVENT
DTSTAMP:20260425T115339Z
UID:event-191531@stampinup.net
DTSTART;TZID=America/New_York:20231116T100000
DTEND;TZID=America/New_York:20231116T120000
CREATED:20230506T134132
DESCRIPTION:\n\n	\n		\n			\n			\n			\n			You’ll make 3 cards with envelop
 es (3 designs) Cards are clean simple designs using the Stamp Set of the m
 onth\n\n			 \n\n			Class Fee $15 or free with a minimum order at class \n
 \n			 \n\n			LIVE EVENT Fourth Thursday &amp\; Saturday of the month 10-1
 2 pm \n			\n			 \n\n			Card Classes are FREE - Simply place a qualifying 
 minimum purchase during class.  \n			When RSVPing for the live event simp
 ly hold your place with a credit card\, cash\, or check. The Class Fee wil
 l be applied to your order the day of the event.\n\n			 \n\n			It’s sim
 ple: Sign up for class\, let me know you want to attend the LIVE event\n		
 	Use your credit card to hold your spot\, or you can pay cash or check\n\n
 			 \n\n			Adhesives are not included in class\n\n			Need Adhesives? Let 
 me know and I can have some for you at class or add it to your order when 
 using the Host Code if you are choosing the Online Option.\n\n			Click HER
 E to see my complete Calendar of Events\n			\n			\n			\n		\n	\n\n\n\n\nEv
 ent link: https://stampinup.net/crm/events/191531
LAST-MODIFIED:20231101T132218
LOCATION:Clarkesville GA\, Jini's Classroom
ORGANIZER;CN=Jini Merck:mailto:stampwithjini@gmail.com
SUMMARY: Card Class
URL;VALUE=URI:https://stampinup.net/crm/events/191531
END:VEVENT
END:VCALENDAR
