BEGIN:VCALENDAR
VERSION:2.0
PRODID:icalendar-ruby
CALSCALE:GREGORIAN
METHOD:PUBLISH
BEGIN:VEVENT
DTSTAMP:20260422T155701Z
UID:event-19095@stampinup.net
DTSTART;TZID=America/New_York:20191106T090000
DTEND;TZID=America/New_York:20191106T120000
CREATED:20191016T202140
DESCRIPTION:Join in the fun and create 5 beautiful cards for $15. All suppl
 ies included with fee. Bring your stampin tool bag (scissors\, adhesives\,
  demonsionals\, paper trimmer etc.). RSVP required so we can save your sea
 t and have your supply packet ready. \n\nEvent link: https://stampinup.ne
 t/crm/events/19095
LAST-MODIFIED:20191016T202140
LOCATION:The Stamp Pad Studio\, Cloverdale IN
ORGANIZER;CN=Debbie Buchanan:mailto:debsstamppad@gmail.com
SUMMARY:Card Club
URL;VALUE=URI:https://stampinup.net/crm/events/19095
END:VEVENT
END:VCALENDAR
