BEGIN:VCALENDAR
VERSION:2.0
PRODID:icalendar-ruby
CALSCALE:GREGORIAN
METHOD:PUBLISH
BEGIN:VEVENT
DTSTAMP:20260424T233122Z
UID:event-1909@stampinup.net
DTSTART;TZID=America/Chicago:20191212T180000
DTEND;TZID=America/Chicago:20191212T210000
CREATED:20190911T130558
DESCRIPTION:So sorry but this event sold out.  Please join us in one of ou
 r January classes!\n\nEvent link: https://stampinup.net/crm/events/1909
LAST-MODIFIED:20191212T090351
LOCATION:Lee's Summit\, MO\, 109 SE Meadowbrook Ct\, Lee's Summit\, MO 6408
 2
ORGANIZER;CN=Leslie Benson:mailto:Lesliebenson9425@gmail.com
SUMMARY:Fun & Fancy Card Class - Evening Edition
URL;VALUE=URI:https://stampinup.net/crm/events/1909
END:VEVENT
END:VCALENDAR
