BEGIN:VCALENDAR
VERSION:2.0
PRODID:icalendar-ruby
CALSCALE:GREGORIAN
METHOD:PUBLISH
BEGIN:VEVENT
DTSTAMP:20260424T081107Z
UID:event-1901@stampinup.net
DTSTART;TZID=America/Los_Angeles:20190919T130000
DTEND;TZID=America/Los_Angeles:20190919T153000
CREATED:20190911T130310
DESCRIPTION:In this class you make 4 cards for $20.00 I supply everything y
 ou need to omplete the projects. There are times when amybe only 3 cards a
 re made if the projects are adavanced.\n\nEvent link: https://stampinup.ne
 t/crm/events/1901
LAST-MODIFIED:20190916T195444
LOCATION:Barb's Studio\, 1709 Tofino PL
ORGANIZER;CN=Barb Tripps:mailto:batripps@gmail.com
SUMMARY:Curves Group
URL;VALUE=URI:https://stampinup.net/crm/events/1901
END:VEVENT
END:VCALENDAR
