BEGIN:VCALENDAR
VERSION:2.0
PRODID:icalendar-ruby
CALSCALE:GREGORIAN
METHOD:PUBLISH
BEGIN:VEVENT
DTSTAMP:20260421T064309Z
UID:event-189955@stampinup.net
DTSTART;VALUE=DATE:20230502
DTEND;VALUE=DATE:20230502
CREATED:20230425T203836
DESCRIPTION:Special weekly email to my customers contains a weekly gift of 
 a card sketch. Join my email list if you would like to be included. \n\nE
 mail includes advance notice of promotions\, event schedule\, and other ne
 ws.\n\nEvent link: https://stampinup.net/crm/events/189955
LAST-MODIFIED:20230425T203836
ORGANIZER;CN=Sandy McManus:mailto:needsaribbon@gmail.com
SUMMARY:Special Email to my Customers
URL;VALUE=URI:https://stampinup.net/crm/events/189955
RRULE:FREQ=WEEKLY;COUNT=52
END:VEVENT
END:VCALENDAR
