BEGIN:VCALENDAR
VERSION:2.0
PRODID:icalendar-ruby
CALSCALE:GREGORIAN
METHOD:PUBLISH
BEGIN:VEVENT
DTSTAMP:20260420T235917Z
UID:event-189212@stampinup.net
DTSTART;VALUE=DATE:20230425
DTEND;VALUE=DATE:20230425
CREATED:20230419T075256
DESCRIPTION:Each Tuesday\, I send a tutorial to my newsletter subscribers!!
   \nClick HERE to sign up today!!!\n\nEvent link: https://stampinup.net/
 crm/events/189212
LAST-MODIFIED:20251114T094704
ORGANIZER;CN=Tammy Fite:mailto:stampwithtammy@gmail.com
SUMMARY:Tuesday Tutorials!
URL;VALUE=URI:https://stampinup.net/crm/events/189212
RRULE:FREQ=WEEKLY;BYDAY=TU
END:VEVENT
END:VCALENDAR
