BEGIN:VCALENDAR
VERSION:2.0
PRODID:icalendar-ruby
CALSCALE:GREGORIAN
METHOD:PUBLISH
BEGIN:VEVENT
DTSTAMP:20260423T173946Z
UID:event-188756@stampinup.net
DTSTART;TZID=Europe/Amsterdam:20230503T170000
DTEND;TZID=Europe/Amsterdam:20230503T180000
CREATED:20230415T085702
DESCRIPTION:Graag uw wensen doorgeven middels naam van artikel en artikelnu
 mmer in een mail naar  info@tokodelouwisstampin.nl of berichtje naar 06 2
 6940415 voor 10:00 uur zodat ik alles tijdig kan verwerken voor deze beste
 lling. Meebestellen bij de verzamelbestelling bespaart verzendkosten zodat
  u niet 7\,95 voor UPS kwijt bent aan een (kleine) bestelling.\n\nWanneer 
 de bestelling geleverd is\, kunnen de artikelen opgehaald worden in Wijden
 es(NH) of Purmerend of ze kunnen worden verzonden. Goedkoopste pakket verz
 endoptie is DHL servicepunt voor €4\,95 tenzij het door de brievenbus pa
 st.\n\nEvent link: https://stampinup.net/crm/events/188756
LAST-MODIFIED:20230415T085702
LOCATION:Wijdenes (NH)
ORGANIZER;CN=Maike de Louw:mailto:maikedelouw@hotmail.com
SUMMARY:Verzamelbestelling
URL;VALUE=URI:https://stampinup.net/crm/events/188756
RRULE:FREQ=MONTHLY;BYDAY=1WE
END:VEVENT
END:VCALENDAR
