BEGIN:VCALENDAR
VERSION:2.0
PRODID:icalendar-ruby
CALSCALE:GREGORIAN
METHOD:PUBLISH
BEGIN:VEVENT
DTSTAMP:20260421T163430Z
UID:event-188561@stampinup.net
DTSTART;TZID=America/Chicago:20230509T060000
DTEND;TZID=America/Chicago:20230510T235800
CREATED:20230412T091249
DESCRIPTION:I am really intriqued and looking forward to this Paper Pumpkin
  that has a new IN COLOR INK SPOT and preprinted paper products that coord
 inate with new colors.\n\nDeadline to order this kit is MAY 10th \n\nThe 
 best way to get the kit if you are not a subscriber is with a one month pr
 epaid subscription. You'll be able to add this kit to any order and can or
 der it now or wait until May 2nd when the New Catalog goes live and add it
  to a new catalog order.\nOne Month Prepaid - https://bit.ly/3oMK0DH\nThis
  kit includes:\nAll the supplies you need to create 9 card\, 3 each of 3 d
 esigns\, plus 9 coordinating envelopes.\nA 7-piece all-occasion stamp set 
 that celebrates good friends and great adventures!\n1 Copper Clay (new In 
 Color!) Classic Stampin’ Spot.\nTwine and die-cut accents\nFREE stickers
  to put on your projects or anything you want—water bottles\, laptops\, 
 coolers\, and more!\nFinished card size: 4-1/4" x 5-1/2" (10.8 x 14 cm).\n
 Coordinating Stampin’ Up! colors: Boho Blue\, Copper Clay\, Daffodil Del
 ight\, Moody Mauve\, Mossy Meadow\, Pebbled Path\, Wild Wheat\n\nEvent lin
 k: https://stampinup.net/crm/events/188561
LAST-MODIFIED:20230412T091249
ORGANIZER;CN=Janet Wakeland:mailto:janetwakeland@remarkablycreated.com
SUMMARY:Create Outdoorsy Card Kit 
URL;VALUE=URI:https://stampinup.net/crm/events/188561
END:VEVENT
END:VCALENDAR
