BEGIN:VCALENDAR
VERSION:2.0
PRODID:icalendar-ruby
CALSCALE:GREGORIAN
METHOD:PUBLISH
BEGIN:VEVENT
DTSTAMP:20260420T095245Z
UID:event-187258@stampinup.net
DTSTART;TZID=America/Chicago:20230328T090000
DTEND;TZID=America/Chicago:20230328T110000
CREATED:20230328T154401
DESCRIPTION:Join me each Thursday at 9:00 am Central on Facebook or YouTube
  for my FREE live video!!  I hope to see you there!\n\nEvent link: https:
 //stampinup.net/crm/events/187258
LAST-MODIFIED:20230328T154401
ORGANIZER;CN=Jennifer Cotton:mailto:jennifer@jennifercotton.com
SUMMARY:Live Weekly Video
URL;VALUE=URI:https://stampinup.net/crm/events/187258
RRULE:FREQ=WEEKLY;BYDAY=TH
END:VEVENT
END:VCALENDAR
