BEGIN:VCALENDAR
VERSION:2.0
PRODID:icalendar-ruby
CALSCALE:GREGORIAN
METHOD:PUBLISH
BEGIN:VEVENT
DTSTAMP:20260419T181719Z
UID:event-18674@stampinup.net
DTSTART;TZID=America/Denver:20191021T190000
DTEND;TZID=America/Denver:20191021T210000
CREATED:20191015T110650
DESCRIPTION:Meet some new friends at this fun stamp night.\nYou will make 4
  cards at this fun class and learn a new technique.\nThe cost is $15.00 or
  free with a $35.00 order. New attendees will get a special card.  Bring 
 a new friend and get a special gift too.\n\nEvent link: https://stampinup.
 net/crm/events/18674
LAST-MODIFIED:20191015T110650
LOCATION:Karina's Stamping Room\, 490 Butchart Drive
ORGANIZER;CN=Karina Chin:mailto:kchin2@telus.net
SUMMARY:Cupcakes and Cards Monday Night Card Class
URL;VALUE=URI:https://stampinup.net/crm/events/18674
END:VEVENT
END:VCALENDAR
