BEGIN:VCALENDAR
VERSION:2.0
PRODID:icalendar-ruby
CALSCALE:GREGORIAN
METHOD:PUBLISH
BEGIN:VEVENT
DTSTAMP:20260426T004321Z
UID:event-186279@stampinup.net
DTSTART;TZID=America/Denver:20230405T090000
DTEND;TZID=America/Denver:20230405T100000
CREATED:20230316T084859
DESCRIPTION:New 5 minute cards video uploaded to YOUTUBE!\n\nEvent link: ht
 tps://stampinup.net/crm/events/186279
LAST-MODIFIED:20230316T085857
LOCATION:YOUTUBE!
ORGANIZER;CN=Tammy Fite:mailto:stampwithtammy@gmail.com
SUMMARY:5 MINUTE CARDS!
URL;VALUE=URI:https://stampinup.net/crm/events/186279
RRULE:FREQ=WEEKLY;UNTIL=20241225T170000Z;INTERVAL=2;BYDAY=WE
END:VEVENT
END:VCALENDAR
