BEGIN:VCALENDAR
VERSION:2.0
PRODID:icalendar-ruby
CALSCALE:GREGORIAN
METHOD:PUBLISH
BEGIN:VEVENT
DTSTAMP:20260424T231242Z
UID:event-186022@stampinup.net
DTSTART;TZID=America/New_York:20230316T203000
DTEND;TZID=America/New_York:20230316T213000
CREATED:20230314T101448
DESCRIPTION:My internet has been down and dayyyyzzzzz of trying to fix it -
  I cannot go LIVE until Thursday as I am STILL Working on it - so Join us 
 THURSDAY @ 8:30pm EST to Create and WIN!! A Pot of Gold in Prizes are to b
 e had!!\nCreate and Connect over Card Making and Crafting LIVE!\nhttps://w
 ww.youtube.com/@JamieAlbanese/streams\nhttps://www.facebook.com/GettingCra
 fty.net/live_videos\n\nEvent link: https://stampinup.net/crm/events/186022
LAST-MODIFIED:20230314T101448
LOCATION:Getting Crafty ONLINE classes\, https://www.youtube.com/c/JamieAlb
 anese/videos
ORGANIZER;CN=Jamie Albanese:mailto:jla_jar@msn.com
SUMMARY:This THURSDAY Gives Aways and Getting Crafty with Jamie LIVE and Gi
 ve Away
URL;VALUE=URI:https://stampinup.net/crm/events/186022
END:VEVENT
END:VCALENDAR
