BEGIN:VCALENDAR
VERSION:2.0
PRODID:icalendar-ruby
CALSCALE:GREGORIAN
METHOD:PUBLISH
BEGIN:VEVENT
DTSTAMP:20260421T100942Z
UID:event-185702@stampinup.net
DTSTART;TZID=Europe/London:20230304T120000
DTEND;TZID=Europe/London:20230311T160000
CREATED:20230311T064128
DESCRIPTION:Supporting fellow Team Member\, Jacqueline Lawrence\, meeting 
  and greeting Customers\, FREE Make &amp\; Take\, showcasing current and 
 New Kits Collection and products.  \n\nEvent link: https://stampinup.net/
 crm/events/185702
LAST-MODIFIED:20230311T064128
LOCATION:Stoke Ash  Village Hall\, IP23 7EW
ORGANIZER;CN=Sandra Roberts:mailto:sroberts07@btinternet.com
SUMMARY:Stoke Ash. Village Craft Fair
URL;VALUE=URI:https://stampinup.net/crm/events/185702
END:VEVENT
END:VCALENDAR
