BEGIN:VCALENDAR
VERSION:2.0
PRODID:icalendar-ruby
CALSCALE:GREGORIAN
METHOD:PUBLISH
BEGIN:VEVENT
DTSTAMP:20260425T011722Z
UID:event-1852@stampinup.net
DTSTART;TZID=America/Los_Angeles:20190916T183000
DTEND;TZID=America/Los_Angeles:20190916T213000
CREATED:20190911T124457
DESCRIPTION:In this class you make 4 cards for $20.00 I supply everything y
 ou need to complete these projects. There is always room for 2 more.\n\nEv
 ent link: https://stampinup.net/crm/events/1852
LAST-MODIFIED:20190916T200859
LOCATION:Barb's Studio\, 1709 Tofino Pl. Comox
ORGANIZER;CN=Barb Tripps:mailto:batripps@gmail.com
SUMMARY:Jan's Group
URL;VALUE=URI:https://stampinup.net/crm/events/1852
END:VEVENT
END:VCALENDAR
