BEGIN:VCALENDAR
VERSION:2.0
PRODID:icalendar-ruby
CALSCALE:GREGORIAN
METHOD:PUBLISH
BEGIN:VEVENT
DTSTAMP:20260420T191119Z
UID:event-185161@stampinup.net
DTSTART;TZID=Australia/Brisbane:20230313T100000
DTEND;TZID=Australia/Brisbane:20230313T113000
CREATED:20230305T143252
DESCRIPTION:Book through Sunshine Coast Libraries for this free cardmaking 
 class introducing cardmaking and the joy of crafting together.\n\nEvent li
 nk: https://stampinup.net/crm/events/185161
LAST-MODIFIED:20230305T143252
LOCATION:Maroochydore  LIbrary\, Sixth Avenue Cotton Tree
ORGANIZER;CN=Julia Quinn:mailto:julia@handmadebyjuliaquinn.com
SUMMARY:Library Cardmaking Class
URL;VALUE=URI:https://stampinup.net/crm/events/185161
END:VEVENT
END:VCALENDAR
