BEGIN:VCALENDAR
VERSION:2.0
PRODID:icalendar-ruby
CALSCALE:GREGORIAN
METHOD:PUBLISH
BEGIN:VEVENT
DTSTAMP:20260424T064620Z
UID:event-184523@stampinup.net
DTSTART;TZID=America/Chicago:20230324T100000
DTEND;TZID=America/Chicago:20230324T120000
CREATED:20230228T125007
DESCRIPTION:Come make five fun projects!  Cost is $10 (refundable with a $
 50 purchase).  Anyone who wants can go to lunch afterward!  \n\nEvent l
 ink: https://stampinup.net/crm/events/184523
LAST-MODIFIED:20230228T125007
LOCATION:Ruthie's House\, 6705 Fire Hill Drive\, Fort Worth\, TX 76137
ORGANIZER;CN=Ruthie Burkey:mailto:ruthieb76137@yahoo.com
SUMMARY:Friday Morning Stamp Camp
URL;VALUE=URI:https://stampinup.net/crm/events/184523
RRULE:FREQ=MONTHLY;BYDAY=4FR
END:VEVENT
END:VCALENDAR
