BEGIN:VCALENDAR
VERSION:2.0
PRODID:icalendar-ruby
CALSCALE:GREGORIAN
METHOD:PUBLISH
BEGIN:VEVENT
DTSTAMP:20260419T183604Z
UID:event-184413@stampinup.net
DTSTART;TZID=America/New_York:20230309T190000
DTEND;TZID=America/New_York:20230309T210000
CREATED:20230228T055214
DESCRIPTION:Join me live this evening on my Facebook page at Suitable Stam
 ped with Michelle Suit.  I will be posting on my Facebook page all the it
 ems we'll need for making our cards together.\n\nEvent link: https://stamp
 inup.net/crm/events/184413
LAST-MODIFIED:20230228T055639
ORGANIZER;CN=Michelle Suit:mailto:shellsuit@verizon.net
SUMMARY:Facebook Class - Mystery Card
URL;VALUE=URI:https://stampinup.net/crm/events/184413
END:VEVENT
END:VCALENDAR
