BEGIN:VCALENDAR
VERSION:2.0
PRODID:icalendar-ruby
CALSCALE:GREGORIAN
METHOD:PUBLISH
BEGIN:VEVENT
DTSTAMP:20260421T031032Z
UID:event-184343@stampinup.net
DTSTART;TZID=America/New_York:20230303T183000
DTEND;TZID=America/New_York:20230303T203000
CREATED:20230227T181822
DESCRIPTION:Paper Pumpkin is a monthly subscription service by Stampin’ U
 p! Paper Pumpkin kits are precut and ready for you to stamp and put your p
 rojects together. \nThis class is for my Paper Pumpkin Subscribers! (See 
 below if you're not a subscriber)\nBring your Sunshine &amp\; Smiles Febru
 ary kit (or another one you haven't completed yet) and we will craft toget
 her!! \n\n*Not a Pumpkin Paper subscriber? Come on over and choose a kit 
 from my stash to see what it's all about!\n\nCost:  $25 for non-Paper Pum
 pkin subscribers\n\nQuestions:  Email me at tonya.bowers@me.com\n\n \n\n
 Event link: https://stampinup.net/crm/events/184343
LAST-MODIFIED:20230227T190553
LOCATION:Iron Station\, NC\, Burnello Court
ORGANIZER;CN=Tonya Bowers:mailto:tonya.bowers@me.com
SUMMARY:Paper Pumpkin Class
URL;VALUE=URI:https://stampinup.net/crm/events/184343
END:VEVENT
END:VCALENDAR
