BEGIN:VCALENDAR
VERSION:2.0
PRODID:icalendar-ruby
CALSCALE:GREGORIAN
METHOD:PUBLISH
BEGIN:VEVENT
DTSTAMP:20260421T222835Z
UID:event-184198@stampinup.net
DTSTART;TZID=America/New_York:20230313T181500
DTEND;TZID=America/New_York:20230313T194500
CREATED:20230226T183918
DESCRIPTION:In person card class.  Come join us as we share ideas and prod
 ucts to make homemade cards.  Class is $15 or free with at least a $25 p
 urchase.  All products and tools are provided.  Just bring yourself (and
  a friend) and enjoy some crafting time.  Reservation must be made. Class
 es are limited\n\nEvent link: https://stampinup.net/crm/events/184198
LAST-MODIFIED:20230226T183918
LOCATION:Lexington SC
ORGANIZER;CN=Jennifer Nuovo:mailto:creativitywithjennifer@yahoo.com
SUMMARY:Card Class
URL;VALUE=URI:https://stampinup.net/crm/events/184198
END:VEVENT
END:VCALENDAR
