BEGIN:VCALENDAR
VERSION:2.0
PRODID:icalendar-ruby
CALSCALE:GREGORIAN
METHOD:PUBLISH
BEGIN:VEVENT
DTSTAMP:20260420T030811Z
UID:event-183856@stampinup.net
DTSTART;TZID=America/Halifax:20230328T130000
DTEND;TZID=America/Halifax:20230328T160000
CREATED:20230224T140215
DESCRIPTION:Click HERE to see all the details for this class &amp\; then co
 me back here to RSVP for the Afternoon session.\n\nEvent link: https://sta
 mpinup.net/crm/events/183856
LAST-MODIFIED:20230224T141613
LOCATION:My house
ORGANIZER;CN=Joanne Perry:mailto:stampinjo@gmail.com
SUMMARY:Memories & More card class-Afternoon
URL;VALUE=URI:https://stampinup.net/crm/events/183856
END:VEVENT
END:VCALENDAR
