BEGIN:VCALENDAR
VERSION:2.0
PRODID:icalendar-ruby
CALSCALE:GREGORIAN
METHOD:PUBLISH
BEGIN:VEVENT
DTSTAMP:20260423T024413Z
UID:event-183830@stampinup.net
DTSTART;TZID=America/Chicago:20230313T173000
DTEND;TZID=America/Chicago:20230313T203000
CREATED:20230224T093337
DESCRIPTION:Workshop in Kennett featuring 5 projects.  Class fee is $15 or
  free with a minimum order.  Sandy &amp\; Judy are hosting and will provi
 de a light supper.  Please RSVP by March 10th.  \n\nEvent link: https:/
 /stampinup.net/crm/events/183830
LAST-MODIFIED:20230224T093337
LOCATION:First United Methodist Church\, 300 College Ave\, Kennett\, MO 638
 57
ORGANIZER;CN=Sandy Risi:mailto:sjrisix@aol.com
SUMMARY:Stamping in Kennett
URL;VALUE=URI:https://stampinup.net/crm/events/183830
END:VEVENT
END:VCALENDAR
