BEGIN:VCALENDAR
VERSION:2.0
PRODID:icalendar-ruby
CALSCALE:GREGORIAN
METHOD:PUBLISH
BEGIN:VEVENT
DTSTAMP:20260421T032833Z
UID:event-183527@stampinup.net
DTSTART;TZID=Australia/Sydney:20230304T110000
DTEND;TZID=Australia/Sydney:20230304T160000
CREATED:20230220T231605
DESCRIPTION:A day of crafting and sharing ideas together.\n\nEvent link: ht
 tps://stampinup.net/crm/events/183527
LAST-MODIFIED:20230220T231605
LOCATION:My Place\, Mount Waverley
ORGANIZER;CN=Janine Rawlins:mailto:jannic@bigpond.com
SUMMARY:Team Craft Day
URL;VALUE=URI:https://stampinup.net/crm/events/183527
END:VEVENT
END:VCALENDAR
