BEGIN:VCALENDAR
VERSION:2.0
PRODID:icalendar-ruby
CALSCALE:GREGORIAN
METHOD:PUBLISH
BEGIN:VEVENT
DTSTAMP:20260422T074158Z
UID:event-183506@stampinup.net
DTSTART;TZID=Australia/Sydney:20230327T143000
DTEND;TZID=Australia/Sydney:20230327T144000
CREATED:20230220T225424
DESCRIPTION:Join me on Mondays at 2.30pm on my Facebook page as I have a qu
 ick chat about what is currently happening with Stampin' Up! and what my l
 atest class details are.\nI'll show off products\, give handy tips and sha
 re ideas.\n\nEvent link: https://stampinup.net/crm/events/183506
LAST-MODIFIED:20230220T225424
LOCATION:Online
ORGANIZER;CN=Janine Rawlins:mailto:jannic@bigpond.com
SUMMARY:Monday Facebook Live Chat
URL;VALUE=URI:https://stampinup.net/crm/events/183506
END:VEVENT
END:VCALENDAR
