BEGIN:VCALENDAR
VERSION:2.0
PRODID:icalendar-ruby
CALSCALE:GREGORIAN
METHOD:PUBLISH
BEGIN:VEVENT
DTSTAMP:20260421T181846Z
UID:event-183102@stampinup.net
DTSTART;TZID=America/Chicago:20230308T193000
DTEND;TZID=America/Chicago:20230308T213000
CREATED:20230215T123641
DESCRIPTION:This is a monthly vritual event for The Crafting Corner Team an
 d any teams formed underneath.  This is a great place to ask those buring
  questions!  Our main focus will be gettting prepared for the NEW Annual 
 Catalog!!  EEK!\nWrite down your questions and join us!  \n\nEvent link
 : https://stampinup.net/crm/events/183102
LAST-MODIFIED:20230215T123641
LOCATION:Comfort of your own home
ORGANIZER;CN=Laura Venvertloh:mailto:laurascreativecorner2007@gmail.com
SUMMARY:Team Talk Zoom
URL;VALUE=URI:https://stampinup.net/crm/events/183102
END:VEVENT
END:VCALENDAR
