BEGIN:VCALENDAR
VERSION:2.0
PRODID:icalendar-ruby
CALSCALE:GREGORIAN
METHOD:PUBLISH
BEGIN:VEVENT
DTSTAMP:20260421T030645Z
UID:event-182306@stampinup.net
DTSTART;TZID=America/Chicago:20230309T133000
DTEND;TZID=America/Chicago:20230309T153000
CREATED:20230208T065010
DESCRIPTION:Registration Deadline: March 1\n \n\nThere will be 6 card choi
 ces when you attend the class. You can choose to make more of some and les
 s of others\, or you can choose to stamp all 6 different cards or all the 
 same cards\, as many as you'd like. Cost is $2 per card that you make. I w
 ill provide all supplies\, but please bring your favorite adhesive. \n\n\n
 Registration is final when you register here: https://bit.ly/cardbuffet323
 \n\n\nEvent link: https://stampinup.net/crm/events/182306
LAST-MODIFIED:20230208T065010
LOCATION:TBD
ORGANIZER;CN=Amy Rich:mailto:stampinnut@me.com
SUMMARY:IN PERSON Card Buffet
URL;VALUE=URI:https://stampinup.net/crm/events/182306
END:VEVENT
END:VCALENDAR
