BEGIN:VCALENDAR
VERSION:2.0
PRODID:icalendar-ruby
CALSCALE:GREGORIAN
METHOD:PUBLISH
BEGIN:VEVENT
DTSTAMP:20260424T054512Z
UID:event-182209@stampinup.net
DTSTART;TZID=America/New_York:20230305T190000
DTEND;TZID=America/New_York:20230305T210000
CREATED:20230207T074638
DESCRIPTION:I am super excited for my first opportunity to partner with my 
 upline\, Ronda Wade.  We have an amazing evening planned with BINGO games
 \, four adorable cards that are perfect for St. Patrick's Day and lots of 
 prizes.  We are even offering an add on class for you.\n\nThe event is $3
 9 and you can add two additional BINGO boards for $10.  You will get a bo
 lt of ribbon\, 1/2 pack of sequins\, 1/2 pack of texture paper\, 1/4 pack 
 of DSP\, card kits with materials cut and prepped for four cards\, and BIN
 GO boards mailed right to you.\n\nYour add on class is $34 and will includ
 e card kits for 6 different cards\, a PDF for your six cards\, a stamp set
 \, a pack of DSP\, an accessory and a whole bolt of ribbon.\n\nRSVP by Feb
 ruary 20th by texting me:  248-909-8016 or emailing me:  ckolly@stamping
 ismybusiness.com  \n\nPayment can be made via PayPal:  ckolly@stampingi
 smybusiness.com\n\nEvent link: https://stampinup.net/crm/events/182209
LAST-MODIFIED:20230207T083753
ORGANIZER;CN=Christine Kolly:mailto:ckolly@stampingismybusiness.com
SUMMARY:LUCKY BINGO!
URL;VALUE=URI:https://stampinup.net/crm/events/182209
END:VEVENT
END:VCALENDAR
