BEGIN:VCALENDAR
VERSION:2.0
PRODID:icalendar-ruby
CALSCALE:GREGORIAN
METHOD:PUBLISH
BEGIN:VEVENT
DTSTAMP:20260425T221550Z
UID:event-182000@stampinup.net
DTSTART;TZID=America/New_York:20230209T120000
DTEND;TZID=America/New_York:20230209T123000
CREATED:20230205T093814
DESCRIPTION:Join my on Facebook for a LIVE demonstration featuring current 
 Stampin' Up! products!    \n\nhttps://www.facebook.com/TeresasStampinSp
 ot\n\nEvent link: https://stampinup.net/crm/events/182000
LAST-MODIFIED:20240124T120248
LOCATION:https://www.facebook.com/TeresasStampinSpot
ORGANIZER;CN=Teresa Howe:mailto:teresasstampinspot@gmail.com
SUMMARY:Thursday w/ Teresa Facebook Live
URL;VALUE=URI:https://stampinup.net/crm/events/182000
RRULE:FREQ=WEEKLY
END:VEVENT
END:VCALENDAR
