BEGIN:VCALENDAR
VERSION:2.0
PRODID:icalendar-ruby
CALSCALE:GREGORIAN
METHOD:PUBLISH
BEGIN:VEVENT
DTSTAMP:20260421T114716Z
UID:event-181503@stampinup.net
DTSTART;TZID=America/New_York:20230218T123000
DTEND;TZID=America/New_York:20230218T163000
CREATED:20230201T080108
DESCRIPTION:STAMP CAMP\n Share A Milkshake Birthday Cards!!\n \n\nEvent l
 ink: https://stampinup.net/crm/events/181503
LAST-MODIFIED:20230201T080108
LOCATION:Grand Blanc\, MI
ORGANIZER;CN=Karen Buttery:mailto:Karenbuttery28@gmail.com
SUMMARY:STAMP CAMP Share A Milkshake Birthday Cards!   
URL;VALUE=URI:https://stampinup.net/crm/events/181503
END:VEVENT
END:VCALENDAR
