BEGIN:VCALENDAR
VERSION:2.0
PRODID:icalendar-ruby
CALSCALE:GREGORIAN
METHOD:PUBLISH
BEGIN:VEVENT
DTSTAMP:20260423T093533Z
UID:event-180536@stampinup.net
DTSTART;TZID=America/Chicago:20230610T130000
DTEND;TZID=America/Chicago:20230610T150000
CREATED:20230125T185145
DESCRIPTION:Kay Cogbill is my upline with Stampin'Up!  She holds a team me
 eting/gathering for everyone each month.  We learn about the new products
  coming out\, how to work our business and prizes are given out to those p
 eople who earn them by working their business.  Prizes for sales\, there 
 are team swaps\, and challenges each month.\nYou do not have to want to ma
 ke a business out of your Hobby to come to this Gathering.  It is open fo
 r anyone to enjoy. \n\nIf you are interested in attending the fun\, email
  me and you can be my guest.  I truly enjoy being able to connect and mak
 e new friends.  Let me know.  My email is patienceholt@gmail. com\n\nEve
 nt link: https://stampinup.net/crm/events/180536
LAST-MODIFIED:20230125T185145
ORGANIZER;CN=Patience Holt:mailto:patienceholt@gmail.com
SUMMARY:Pretties Team Gathering
URL;VALUE=URI:https://stampinup.net/crm/events/180536
END:VEVENT
END:VCALENDAR
