BEGIN:VCALENDAR
VERSION:2.0
PRODID:icalendar-ruby
CALSCALE:GREGORIAN
METHOD:PUBLISH
BEGIN:VEVENT
DTSTAMP:20260419T222124Z
UID:event-18028@stampinup.net
DTSTART;TZID=Australia/Perth:20191019T140000
DTEND;TZID=Australia/Perth:20191019T170000
CREATED:20191011T234530
DESCRIPTION:This class includes a Christmas card that looks like it has a s
 now globe on the front\, &amp\; a Birthday card that opens up to a pop up 
 box of flowers.\nTo ensure I have enough kits\, bookings are essential\, s
 o if you are interested\, please confirm prior to Thursday.\n\nEvent link:
  https://stampinup.net/crm/events/18028
LAST-MODIFIED:20191011T234530
LOCATION:South Guildford
ORGANIZER;CN=Odette Kermode:mailto:odette@aokscrapbooks.com
SUMMARY:Specialty Card Class
URL;VALUE=URI:https://stampinup.net/crm/events/18028
END:VEVENT
END:VCALENDAR
