BEGIN:VCALENDAR
VERSION:2.0
PRODID:icalendar-ruby
CALSCALE:GREGORIAN
METHOD:PUBLISH
BEGIN:VEVENT
DTSTAMP:20260421T074617Z
UID:event-180108@stampinup.net
DTSTART;TZID=America/New_York:20230127T183000
DTEND;TZID=America/New_York:20230127T210000
CREATED:20230122T180816
DESCRIPTION:Let's get the new year started with a stash of birthday cards! 
 I have designed 4 different birthday cards for you. I used several new set
 s from the new Spring mini catalog and the Sale-A-Bration brochure too!! Y
 ou will make 2 of each card for a total of 8 cards (plus envelopes). Cost 
 for this class is $25. \n\n*Please rsvp so that I can have your kit ready
  for you.\n\nEmail me at tonya.bowers@me.com if you have any questions.\n\
 nEvent link: https://stampinup.net/crm/events/180108
LAST-MODIFIED:20230124T144015
LOCATION:Iron Station\, NC\, The Farm at Ingleside neighborhood
ORGANIZER;CN=Tonya Bowers:mailto:tonya.bowers@me.com
SUMMARY:Birthday Card Class
URL;VALUE=URI:https://stampinup.net/crm/events/180108
END:VEVENT
END:VCALENDAR
