BEGIN:VCALENDAR
VERSION:2.0
PRODID:icalendar-ruby
CALSCALE:GREGORIAN
METHOD:PUBLISH
BEGIN:VEVENT
DTSTAMP:20260421T022543Z
UID:event-179854@stampinup.net
DTSTART;TZID=America/Denver:20230204T130000
DTEND;TZID=America/Denver:20230204T150000
CREATED:20230120T101318
DESCRIPTION:A Fun &amp\; Free Stamp Party for friends of Marlene!\n- Make 2
  quick &amp\; easy projects\n- Have fun crafting &amp\; chatting with frie
 nds\n- Place orders so Marlene can get fun Host Rewards product credit\n\n
 Do YOU want to have a Fun &amp\; Free Stamp Party for you and your friends
 ? \n-----&gt\; Contact me today! \n \n\nEvent link: https://stampinup.n
 et/crm/events/179854
LAST-MODIFIED:20230120T101318
LOCATION:Marlene's Place\, Aurora\, CO
ORGANIZER;CN=Joy Nelson:mailto:stampwithjoy@msn.com
SUMMARY:Marlene's Stamp Party
URL;VALUE=URI:https://stampinup.net/crm/events/179854
END:VEVENT
END:VCALENDAR
