BEGIN:VCALENDAR
VERSION:2.0
PRODID:icalendar-ruby
CALSCALE:GREGORIAN
METHOD:PUBLISH
BEGIN:VEVENT
DTSTAMP:20260422T185435Z
UID:event-178562@stampinup.net
DTSTART;TZID=America/Denver:20230916T130000
DTEND;TZID=America/Denver:20230916T160000
CREATED:20230111T081840
DESCRIPTION:Space is limited.  \n\nPlease Note: Please allow approximatel
 y 2-4 hours to complete your cards. You may or may not need the entire tim
 e to create your cards. Feel free to come &amp\; go as you please.\n\nPROJ
 ECT DESCRIPTIONS:\nCard Buffet - I'm sure you have been to a food buffet -
  well it's kind of the same thing. The buffet table has 8 shoeboxes\, each
  one containing packets of pre-cut materials including an envelope\, and e
 verything else required to make that card. Take one box to your seat\, mak
 e the card\, return the shoebox to the buffet table\, grab another shoebox
  and repeat. There will be 8 card designs to choose from. Make all 8 or du
 plicates of your favorite designs. Cost will be $30 for 8 cards. Need more
  than 8? No problem! Additional cards will be $3 each after you have compl
 eted your first 8 cards.\n\nUNABLE TO ATTEND THE EVENT BUT STILL WANT THE 
 CARDS: If you are unable to attend the event in person\, you can still pur
 chase the cards already assembled. Please select which option works best f
 or you under the Completed Card Pack Options. Please note: shipping is in 
 addition to the cost fee.\n\nEVENT LOCATION: Ewe Stitch A Maker's Workshop
  (120 Bunyan Street Unit C\, Berthoud 80513)\n\nFeel free to bring your ow
 n food and drink! We have access to a refrigerator\, microwave\, and sink.
  There is also a restaurant called the Derby Grille right next door. Each 
 person will have their own table to create. If you have any questions plea
 se contact me directly: RJ@MyStampinMemories.com and not the shop.\n\nPLE
 ASE BRING YOUR OWN ADHESIVE &amp\; SCISSORS. I will have adhesive availabl
 e for purchase at the event. Also\, I recommend bringing several clear blo
 cks if you have them. Helps save time.\n\nBRING A FRIEND - Receive a FREE 
 GIFT from me when a friend or family member registers for the event. Pleas
 e leave the name of the person who you referred in the comments section be
 low. \n\nEvent link: https://stampinup.net/crm/events/178562
LAST-MODIFIED:20230111T081840
LOCATION:Ewe Stitch \, 120 Bunyan St. Unit C Berthoud CO 80513
ORGANIZER;CN=RaeJean Communal:mailto:rjcommunal@gmail.com
SUMMARY:Card Buffet
URL;VALUE=URI:https://stampinup.net/crm/events/178562
END:VEVENT
END:VCALENDAR
