BEGIN:VCALENDAR
VERSION:2.0
PRODID:icalendar-ruby
CALSCALE:GREGORIAN
METHOD:PUBLISH
BEGIN:VEVENT
DTSTAMP:20260419T175433Z
UID:event-178541@stampinup.net
DTSTART;TZID=Europe/Berlin:20230101T090000
DTEND;TZID=Europe/Berlin:20230101T100000
CREATED:20230111T065341
DESCRIPTION:Jeden Sonntag um 09:00 Uhr erscheint ein neues Anleitungsvideo 
 auf meinem YouTube Kanal @PappyjonYvonneJanssen.\n\nLass Dich inspirieren
  und in meine kreative Welt entführen. \nHab viel Spaß.\n\nIch freue mi
 ch auf Dich.\nDeine Yvonne Janssen\n\nEvent link: https://stampinup.net/cr
 m/events/178541
LAST-MODIFIED:20230111T065341
ORGANIZER;CN=Yvonne Janssen:mailto:kontakt@pappyjon.de
SUMMARY:Neues YouTube Video
URL;VALUE=URI:https://stampinup.net/crm/events/178541
END:VEVENT
END:VCALENDAR
