BEGIN:VCALENDAR
VERSION:2.0
PRODID:icalendar-ruby
CALSCALE:GREGORIAN
METHOD:PUBLISH
BEGIN:VEVENT
DTSTAMP:20260422T041740Z
UID:event-178472@stampinup.net
DTSTART;TZID=Australia/Brisbane:20230911T100000
DTEND;TZID=Australia/Brisbane:20230911T140000
CREATED:20230110T221448
DESCRIPTION:Our team days include fun cardmaking together\, sharing ideas a
 nd inspiration\, a shared meal and wonderful fellowship while chatting abo
 ut the joy of papercrafts.\n\nEvent link: https://stampinup.net/crm/events
 /178472
LAST-MODIFIED:20230110T221448
LOCATION:My Home\, 31 Sugar view Lane Rosemount
ORGANIZER;CN=Julia Quinn:mailto:julia@handmadebyjuliaquinn.com
SUMMARY:Team Day for my Handmade Team
URL;VALUE=URI:https://stampinup.net/crm/events/178472
END:VEVENT
END:VCALENDAR
