BEGIN:VCALENDAR
VERSION:2.0
PRODID:icalendar-ruby
CALSCALE:GREGORIAN
METHOD:PUBLISH
BEGIN:VEVENT
DTSTAMP:20260425T162727Z
UID:event-178452@stampinup.net
DTSTART;TZID=America/Chicago:20230324T150000
DTEND;TZID=America/Chicago:20230326T120000
CREATED:20230110T210424
DESCRIPTION:A fun weekend full of creating together.  More details &amp\; 
 registration info to come.\n\nEvent link: https://stampinup.net/crm/events
 /178452
LAST-MODIFIED:20230110T210424
LOCATION:Hampton Inn & Suites Waco South\, 2501 Marketplace Dr\, Waco\, TX
ORGANIZER;CN=Amy Storrie:mailto:amy@stampedwithjoy.com
SUMMARY:Creative Escape
URL;VALUE=URI:https://stampinup.net/crm/events/178452
END:VEVENT
END:VCALENDAR
