BEGIN:VCALENDAR
VERSION:2.0
PRODID:icalendar-ruby
CALSCALE:GREGORIAN
METHOD:PUBLISH
BEGIN:VEVENT
DTSTAMP:20260422T070732Z
UID:event-178120@stampinup.net
DTSTART;TZID=America/New_York:20230126T110000
DTEND;TZID=America/New_York:20230126T140000
CREATED:20230109T112511
DESCRIPTION:Get ready to be smitten by this adorable Valentine's sampler fe
 aturing the Country Floral Lane Suite Collection!\nAll samplers are 12 x 1
 2.\n\n Don't know what a shadowbox or sampler is?   Visit my pinterest 
 page to see some of my past projects as well as some that have inspired me
 !\n\nCost for this event is $30\nALL supplies to create the Sampler\, incl
 uding adhesive\, will be provided.  12 x 12 frames are not included.\n\n
 This is a pre-paid event. I must receive payment from you to hold your spo
 t.  Space is limited to six stampers per session\, so register early to e
 nsure you spot!\n\nI currently have 4 spots left for this session.\n\n\nEv
 ent link: https://stampinup.net/crm/events/178120
LAST-MODIFIED:20230109T112511
LOCATION:the Stamp Pad\, Raleigh\, NC
ORGANIZER;CN=Tracie Langley:mailto:tracie@stampwithtracie.com
SUMMARY:Decor Day - Be My Valentine Sampler
URL;VALUE=URI:https://stampinup.net/crm/events/178120
END:VEVENT
END:VCALENDAR
