BEGIN:VCALENDAR
VERSION:2.0
PRODID:icalendar-ruby
CALSCALE:GREGORIAN
METHOD:PUBLISH
BEGIN:VEVENT
DTSTAMP:20260421T080338Z
UID:event-177927@stampinup.net
DTSTART;TZID=America/New_York:20230114T123000
DTEND;TZID=America/New_York:20230114T163000
CREATED:20230108T144217
DESCRIPTION:JAN 14 SOLD OUT\nSaleabration Celebration Classes\nSaleabration
  Stamp Camp Retreats\nAt My Home\nCannot make it?\nI can Send it out to yo
 u!\nJanuary\, 14 &amp\; 21\, 2022\n\nWhere: Grand Blanc\, Michigan\nSaleab
 ration Retreats\nTime: 12:30pm- 4:00pm\n\n\nMake n Takes\, raffles\, prize
 s\, dessert and BOGO just for you!\n\n$20.00 or Free If You Should Purchas
 e \nFrom  Me!\n\nCONSIDER JOINING MY TEAM! \n                  
       $175.00 For Just $99.00 to Join!\n\nEvent link: https://stampinup
 .net/crm/events/177927
LAST-MODIFIED:20230108T144217
LOCATION:Grand Blanc\, MI\, 10312 Champions Cir
ORGANIZER;CN=Karen Buttery:mailto:Karenbuttery28@gmail.com
SUMMARY:SOLD OUT THE JAN14th! Saleabration Celebration Classes Saleabration
  Stamp Camp
URL;VALUE=URI:https://stampinup.net/crm/events/177927
END:VEVENT
END:VCALENDAR
