BEGIN:VCALENDAR
VERSION:2.0
PRODID:icalendar-ruby
CALSCALE:GREGORIAN
METHOD:PUBLISH
BEGIN:VEVENT
DTSTAMP:20260423T220730Z
UID:event-17745@stampinup.net
DTSTART;TZID=America/Chicago:20191210T190000
DTEND;TZID=America/Chicago:20191210T210000
CREATED:20191010T183518
DESCRIPTION:Ribbon Retreat (NEW)\n\n$5 for any 2 cards.\n\n4 choices each t
 ime.\n\n2 sessions per month per retreat - day and evening\n\nYou will hav
 e 4 card styles to choose from. Choose 2. Two of the card styles will be c
 arried forward to the following month. You will have the option to do them
  the following month\, or choose to do the 2 new styles.\n\nIt’s like a 
 mini card buffet.\n\nFree with a $30 order placed during event\, not after
  event ends.\n\nEvent will be held the third Tuesday of every month\, exce
 pt December. 2-4 pm and 7-9 pm.\n\nAlso\, if you finish the cards early\, 
 you will have time to play with other stamps and dies. Bring a few sheets 
 of your own cardstock if you want to try some of my dies.\n\nOctober 22\, 
 2019\, 2-4 pm\nOctober 22\, 2019\, 7-9 pm\n\nNovember 19\, 2019\, 2-4 pm\n
 November 19\, 2019\, 7-9 pm\n\nDecember 10\, 2019\, 2-4 pm\nDecember 10\, 
 2019\, 7-9 pm\n\nRespond to register via email\n\n\nEvent link: https://st
 ampinup.net/crm/events/17745
LAST-MODIFIED:20191011T104723
LOCATION:My Studio\, Minnetonka MN
ORGANIZER;CN=Sandy McManus:mailto:needsaribbon@gmail.com
SUMMARY:Ribbon Retreat
URL;VALUE=URI:https://stampinup.net/crm/events/17745
END:VEVENT
END:VCALENDAR
