BEGIN:VCALENDAR
VERSION:2.0
PRODID:icalendar-ruby
CALSCALE:GREGORIAN
METHOD:PUBLISH
BEGIN:VEVENT
DTSTAMP:20260420T214219Z
UID:event-176932@stampinup.net
DTSTART;TZID=America/Los_Angeles:20230105T200000
DTEND;TZID=America/Los_Angeles:20230105T203000
CREATED:20230102T195223
DESCRIPTION:Our Team meets online to share Business strategies and tips.\n\
 nEvent link: https://stampinup.net/crm/events/176932
LAST-MODIFIED:20230102T195223
LOCATION:on Facebook
ORGANIZER;CN=Leah Dixon:mailto:leahdixon41@gmail.com
SUMMARY:West Coast Creators Business Builder Meeting
URL;VALUE=URI:https://stampinup.net/crm/events/176932
END:VEVENT
END:VCALENDAR
