BEGIN:VCALENDAR
VERSION:2.0
PRODID:icalendar-ruby
CALSCALE:GREGORIAN
METHOD:PUBLISH
BEGIN:VEVENT
DTSTAMP:20260424T041829Z
UID:event-17569@stampinup.net
DTSTART;TZID=Australia/Sydney:20191015T140000
DTEND;TZID=Australia/Sydney:20191015T170000
CREATED:20191010T084350
DESCRIPTION:Technique Class\n\nThis week’s technique will be Sponge and S
 pritz.\n\n\n	RSVP Saturday 12 Oct\n	Cost $20\n	Bookings essential\n	Class 
 held 2nd and 4th Tuesdays of the month\n	Suitable for any level stamper \n
 	Journal (6” X 8”) essential\n	Only 8 spots available\n	Bring your own
  basic supplies including adhesive\n\nLooking forward to sharing some crea
 tive time with you soon.\n \nCancellation Policy\n\nPlease RSVP by the li
 sted date. Kits will only be prepared for those who have confirmed their a
 ttendance.\n\nLess than 48 hours cancellation notice: you will still need 
 to pay the class fee and any associated costs to get the pre-cut class kit
  to you. Please note that no images will be stamped for these kits.\n\n\nE
 vent link: https://stampinup.net/crm/events/17569
LAST-MODIFIED:20191010T084350
LOCATION:Wendy Hodkinson\, Independent Stampin' Up! Demonstrator\, My Studi
 o\, 15 Lewin Street\, Inverell
ORGANIZER;CN=Wendy Hodkinson:mailto:wendy_hodkinson@yahoo.com.au
SUMMARY:Technique Class
URL;VALUE=URI:https://stampinup.net/crm/events/17569
END:VEVENT
END:VCALENDAR
