BEGIN:VCALENDAR
VERSION:2.0
PRODID:icalendar-ruby
CALSCALE:GREGORIAN
METHOD:PUBLISH
BEGIN:VEVENT
DTSTAMP:20260423T233415Z
UID:event-175576@stampinup.net
DTSTART;TZID=America/New_York:20230113T183000
DTEND;TZID=America/New_York:20230113T213000
CREATED:20221223T140852
DESCRIPTION:Want to make handmade greeting cards? Come join me for the next
  Quick &amp\; Cute Card Class at Tie One On Creativity Bar in Kingston on 
 Friday\, January 13th from 6:30-9:30 pm.\n \n\nCost is $35 ($30.97 + HST
 ) and includes the Biggest Wish* stamp set and all the consumable product
 s needed to create 6 handmade greeting cards (3 designs\, 2 cards of each 
 design)!  \n \n\nRegistration for the class ends on January 2nd to al
 low for ordering\, and pre-paid registration is required to hold your spot
 .   Want the kit but can't attend on the 13th?  Let us know\, and we ca
 n arrange to ship your kit to you after the 13th!  Please note that for s
 hipped kits\, adhesive and ink is not included.\n\nSpace is limited\, pre-
 registration is required. Register online at https://stampandcreatewithli
 sa.net/products/january-quick-cute-card-class-at-tie-one-on-creativity-bar
 \n\nPlease do not bring outside food or drink\, food and drink are availab
 le for purchase from Tie One On Creativity Bar (1329 Gardiners Rd. Suite 1
 09 Kingston\, ON\, across from the Invista Centre)--make it the ultimate n
 ight out and grab a few friends for dinner &amp\; cards! Parking is free. 
 We will be located on the second level of the building\, and unfortunately
 \, it is not fully accessible. Unable to make the class? This class will a
 lso be available in a to-go format!\n\n*Although stamp sets are rarely bac
 k-ordered\, in the event that the specified stamp set is unavailable on J
 anuary 2nd\, another stamp set of equivalent value will be substituted. In
  the event of a lockdown\, if the lockdown is announced prior to January 
 2nd (when materials are ordered)\, event fees will be refunded. If a lock
 down is announced between January 2nd and January 13th (after materials
  are ordered)\, the class will be moved to an online format. Please note t
 hat the same cut-offs apply for cancellations of any kind as this class is
  product-based.\n\nPlease note that a ticket will not be emailed. The rece
 ipt of payment is automatically recorded. If you are planning to attend wi
 th a group and want to be seated together\, please let us know!\n\n\nEvent
  link: https://stampinup.net/crm/events/175576
LAST-MODIFIED:20221223T140852
LOCATION:Tie One On Creativity Bar\, 1329 Gardiners Rd. Suite 109 Kingston\
 , ON
ORGANIZER;CN=Lisa Henderson:mailto:lisa.henderson003@gmail.com
SUMMARY:January Quick & Cute Card Class
URL;VALUE=URI:https://stampinup.net/crm/events/175576
END:VEVENT
END:VCALENDAR
