BEGIN:VCALENDAR
VERSION:2.0
PRODID:icalendar-ruby
CALSCALE:GREGORIAN
METHOD:PUBLISH
BEGIN:VEVENT
DTSTAMP:20260423T041626Z
UID:event-174916@stampinup.net
DTSTART;TZID=America/Los_Angeles:20230112T190000
DTEND;TZID=America/Los_Angeles:20230112T210000
CREATED:20221211T220652
DESCRIPTION:Enjoy making six cards with the On the Farm bundle!\nFee is $30
  or free with a $50 purchase or purchase of the bundle.\n \n\nEvent link:
  https://stampinup.net/crm/events/174916
LAST-MODIFIED:20221211T220652
ORGANIZER;CN=Elaine Schader:mailto:elaine@sweetstampin.com
SUMMARY:On the Farm Class
URL;VALUE=URI:https://stampinup.net/crm/events/174916
END:VEVENT
END:VCALENDAR
