BEGIN:VCALENDAR
VERSION:2.0
PRODID:icalendar-ruby
CALSCALE:GREGORIAN
METHOD:PUBLISH
BEGIN:VEVENT
DTSTAMP:20260424T073603Z
UID:event-173866@stampinup.net
DTSTART;TZID=America/New_York:20221125T190000
DTEND;TZID=America/New_York:20221125T210000
CREATED:20221130T153748
DESCRIPTION:This is a FREE class for my Paper Pumpkin customers. Anyone who
  subscribes to Paper Pumpkin from me can attend. It is our way to do our K
 it every month. Locals and Long Distance attendees are welcome. If you wou
 ld like to join us\, subscribe to Paper Pumpkin here. Please RSVP. Thanks
   ♥\n\nEvent link: https://stampinup.net/crm/events/173866
LAST-MODIFIED:20221130T161918
ORGANIZER;CN=Kelli McConkey:mailto:scrapbookteacher@msn.com
SUMMARY:Paper Pumpkin Procrastinators
URL;VALUE=URI:https://stampinup.net/crm/events/173866
RRULE:FREQ=MONTHLY;BYDAY=4FR
END:VEVENT
END:VCALENDAR
