BEGIN:VCALENDAR
VERSION:2.0
PRODID:icalendar-ruby
CALSCALE:GREGORIAN
METHOD:PUBLISH
BEGIN:VEVENT
DTSTAMP:20260423T165858Z
UID:event-173567@stampinup.net
DTSTART;TZID=America/Chicago:20230221T180000
DTEND;TZID=America/Chicago:20230221T200000
CREATED:20221128T093015
DESCRIPTION:\n\nEvent link: https://stampinup.net/crm/events/173567
LAST-MODIFIED:20221128T093324
LOCATION:Sandy's house\, 606 Centre Grove Circle\, Jonesboro\, AR
ORGANIZER;CN=Sandy Risi:mailto:sjrisix@aol.com
SUMMARY: Live Team Meeting
URL;VALUE=URI:https://stampinup.net/crm/events/173567
RRULE:FREQ=MONTHLY;INTERVAL=2;BYDAY=3TU
END:VEVENT
END:VCALENDAR
